BEGIN:VCALENDAR
VERSION:2.0
PRODID:-//Alpine Software Solutions - ECPv6.15.13//NONSGML v1.0//EN
CALSCALE:GREGORIAN
METHOD:PUBLISH
X-ORIGINAL-URL:https://alpinesoftware.com.my
X-WR-CALDESC:Events for Alpine Software Solutions
REFRESH-INTERVAL;VALUE=DURATION:PT1H
X-Robots-Tag:noindex
X-PUBLISHED-TTL:PT1H
BEGIN:VTIMEZONE
TZID:Asia/Kuala_Lumpur
BEGIN:STANDARD
TZOFFSETFROM:+0800
TZOFFSETTO:+0800
TZNAME:+08
DTSTART:20240101T000000
END:STANDARD
END:VTIMEZONE
BEGIN:VEVENT
DTSTART;TZID=Asia/Kuala_Lumpur:20250711T100000
DTEND;TZID=Asia/Kuala_Lumpur:20250711T120000
DTSTAMP:20260421T125138
CREATED:20250613T042408Z
LAST-MODIFIED:20250630T091643Z
UID:10000080-1752228000-1752235200@alpinesoftware.com.my
SUMMARY:Kota Masai | Property Management System E- Invoice Classroom (Malay + English Session)
DESCRIPTION:Managing a property is already complicated enough…\nNow with E-Invoice coming in —\nAre you ready to handle all these?\n→ Do you need to issue E-Invoice for management fees?\n→ What about rental\, maintenance\, security fees\, or deposits?\n→ Every payment needs invoice?\n→ How to issue\, cancel or correct an invoice properly?\n→ Cash\, Bank Transfer\, Auto Debit — how to handle?\nWhat You Will Learn\nThis training is specially designed for Property Management industry!\nYou will learn:\nWhich collections need E-Invoice\, which don’t\n How to issue invoice for different payment methods\n Full process: Issue → Submit → Cancel → Correct\n Special cases: Deposits / Prepayment / Late Payment / Bad Debt\n Real system demonstration — easy to follow\n Common mistakes that cause penalties — how to avoid\nWhy You Must Join？\nSimple\, Practical & Easy to Apply!\nDon’t wait until your customer asks\, or LHDN comes knocking!\nLearn it right\, save your time\, avoid unnecessary penalties!\nWorkshop Details\n Date : 11 July 2025\n Time : 10:00 AM – 12:00 PM\n Venue : [Kota Masai Training Center]\n Register now with only RM15 venue fee!\nSeats are limited — First Come\, First Served!\nClick the link below or contact us to register now!
URL:https://alpinesoftware.com.my/events/kota-masai-property-management-system-e-invoice-classroom-malay-english-session/
LOCATION:Kota Masai Training Centre\, 1B\, Jalan Ekoperniagaan 7\, Taman Kota Masai\, Pasir Gudang\, Johor\, 81700\, Malaysia
CATEGORIES:E-Invoice Classroom
END:VEVENT
END:VCALENDAR