BEGIN:VCALENDAR
VERSION:2.0
PRODID:-//Alpine Software Solutions - ECPv6.15.13//NONSGML v1.0//EN
CALSCALE:GREGORIAN
METHOD:PUBLISH
X-WR-CALNAME:Alpine Software Solutions
X-ORIGINAL-URL:https://alpinesoftware.com.my
X-WR-CALDESC:Events for Alpine Software Solutions
REFRESH-INTERVAL;VALUE=DURATION:PT1H
X-Robots-Tag:noindex
X-PUBLISHED-TTL:PT1H
BEGIN:VTIMEZONE
TZID:Asia/Kuala_Lumpur
BEGIN:STANDARD
TZOFFSETFROM:+0800
TZOFFSETTO:+0800
TZNAME:+08
DTSTART:20240101T000000
END:STANDARD
END:VTIMEZONE
BEGIN:VEVENT
DTSTART;TZID=Asia/Kuala_Lumpur:20251219T100000
DTEND;TZID=Asia/Kuala_Lumpur:20251219T120000
DTSTAMP:20260421T051715
CREATED:20251118T081924Z
LAST-MODIFIED:20251118T081924Z
UID:10000163-1766138400-1766145600@alpinesoftware.com.my
SUMMARY:Kota Masai | E- Invoice Classroom (Malay + English Session)
DESCRIPTION:This Physical Classroom is designed to teach SQL users how to use the E-Invoice.\n\n\nE-invoice Training Content \n\nTIN search (over 1.3m TIN available)\nE-Invoice\nConsolidated E-Invoice\nSelf-Billed E-Invoice\nBatch Submission E-Invoice\nExpenses Self-Bill E-Invoice\nDirectly Fetch & Post Supplier Validated Invoices via MyInvois\n\n\n\nIf you have any questions regarding the risk factors in the business industry\, everyone will have the opportunity to ask questions at the end of this seminar\, and our experts will provide answers to address your concerns. \n\n🆓 Limited seating available\, first come\, first served.\n\n🆓 Bring your laptop !! 💻 \n\nCourse Fee :  → 𝐅𝐑𝐄𝐄\, sponsored by Alpine Software SQL. Users of other software are welcome to attend.\nVenue Fee: RM15 (includes classroom access\, light refreshments\, and e-certificate)\nLimited to 30 seats only!\n\nDon’t miss this insightful seminar! Gain powerful tips and tricks for LHDN e-invoicing. Open to everyone!\nLimited seating available\, so register quickly before spots fill up.\nSponsored by Alpine Software SQL Accounting Software.
URL:https://alpinesoftware.com.my/events/kota-masai-e-invoice-classroom-malay-english-session-7/
LOCATION:Kota Masai Training Centre\, 1B\, Jalan Ekoperniagaan 7\, Taman Kota Masai\, Pasir Gudang\, Johor\, 81700\, Malaysia
CATEGORIES:E-Invoice Classroom
END:VEVENT
END:VCALENDAR