BEGIN:VCALENDAR
VERSION:2.0
PRODID:-//Alpine Software Solutions - ECPv6.15.13//NONSGML v1.0//EN
CALSCALE:GREGORIAN
METHOD:PUBLISH
X-ORIGINAL-URL:https://alpinesoftware.com.my
X-WR-CALDESC:Events for Alpine Software Solutions
REFRESH-INTERVAL;VALUE=DURATION:PT1H
X-Robots-Tag:noindex
X-PUBLISHED-TTL:PT1H
BEGIN:VTIMEZONE
TZID:Asia/Kuala_Lumpur
BEGIN:STANDARD
TZOFFSETFROM:+0800
TZOFFSETTO:+0800
TZNAME:+08
DTSTART:20250101T000000
END:STANDARD
END:VTIMEZONE
BEGIN:VEVENT
DTSTART;TZID=Asia/Kuala_Lumpur:20260313T143000
DTEND;TZID=Asia/Kuala_Lumpur:20260313T170000
DTSTAMP:20260421T113836
CREATED:20260128T091022Z
LAST-MODIFIED:20260128T091130Z
UID:10000192-1773412200-1773421200@alpinesoftware.com.my
SUMMARY:Taman Molek | E- Invoice Classroom (English Session)
DESCRIPTION:【此线下课程教导 SQL 用户如何操作 “E-Invoice电子发票” 】\nThis Physical Classroom is designed to teach SQL users how to use the E-Invoice.电子发票培训内容\n\n\nE-invoice Training Content \n\nTIN search (over 1.3m TIN available)\nTIN 搜索（超过 130 万个 TIN 可用）\nE-Invoice\nConsolidated E-Invoice\nSelf-Billed E-Invoice\nBatch Submission E-Invoice\n批量提交 E-Invoice\nExpenses Self-Bill E-Invoice\nSelf-Bill E-Invoice费用\nDirectly Fetch & Post Supplier Validated Invoices via MyInvois\n通过 MyInvois 直接获取和发布供应商验证的发票\n\n如果您对业务行业的风险因素有任何疑问，在本次研讨会结束时，每个人都将有机会提出问题，我们的专家将提供答案来解决您的疑问。 \n\n\nIf you have any questions regarding the risk factors in the business industry\, everyone will have the opportunity to ask questions at the end of this seminar\, and our experts will provide answers to address your concerns. \n\n🆓 座位有限，先到先得\n🆓 Limited seating available\, first come\, first served.\n\n🆓 Bring your laptop !! 💻 \n\n课程费用：→ 𝐅𝐑𝐄𝐄，由 Alpine Software SQL 赞助。欢迎其他软件用户参加。\n场地费：RM30（包括教室使用权、茶点和电子证书）\n仅限30个座位！\nCourse Fee :  → 𝐅𝐑𝐄𝐄\, sponsored by Alpine Software SQL. Users of other software are welcome to attend.\nVenue Fee: RM30 (includes classroom access\, light refreshments\, and e-certificate)\nLimited to 30 seats only!不要错过这个富有洞见的研讨会！获得强大的LHDN电子发票技巧和诀窍。开放给所有人！座位有限，请在名额填满之前快速注册。由 Alpine Software SQL 会计软件赞助。\n\n\nDon’t miss this insightful seminar! Gain powerful tips and tricks for LHDN e-invoicing. Open to everyone! Limited seating available\, so register quickly before spots fill up. Sponsored by Alpine Software SQL Accounting Software. \nIf Next Attendee same email\, can put “same@gmail.com”. \nEnd sale ticket: 29/01/2026\, 12pm\n*if after end sale need register this event\, please call 018-771 2219 (Fira)
URL:https://alpinesoftware.com.my/events/taman-molek-e-invoice-classroom-english-session-12/
LOCATION:Taman Molek Training Centre\, 72-02\, Jalan Molek 1/28\, Taman Molek\, Johor Bahru\, Johor\, 81100\, Malaysia
CATEGORIES:E-Invoice Classroom
END:VEVENT
BEGIN:VEVENT
DTSTART;TZID=Asia/Kuala_Lumpur:20260417T100000
DTEND;TZID=Asia/Kuala_Lumpur:20260417T120000
DTSTAMP:20260421T113836
CREATED:20260326T063125Z
LAST-MODIFIED:20260326T063125Z
UID:10000198-1776420000-1776427200@alpinesoftware.com.my
SUMMARY:Taman Molek | E- Invoice Classroom (Chinese Session)
DESCRIPTION:【此线下课程教导 SQL 用户如何操作 “E-Invoice电子发票” 】\nThis Physical Classroom is designed to teach SQL users how to use the E-Invoice.电子发票培训内容\n\n\nE-invoice Training Content \n\nTIN search (over 1.3m TIN available)\nTIN 搜索（超过 130 万个 TIN 可用）\nE-Invoice\nConsolidated E-Invoice\nSelf-Billed E-Invoice\nBatch Submission E-Invoice\n批量提交 E-Invoice\nExpenses Self-Bill E-Invoice\nSelf-Bill E-Invoice费用\nDirectly Fetch & Post Supplier Validated Invoices via MyInvois\n通过 MyInvois 直接获取和发布供应商验证的发票\n\n如果您对业务行业的风险因素有任何疑问，在本次研讨会结束时，每个人都将有机会提出问题，我们的专家将提供答案来解决您的疑问。 \n\n\nIf you have any questions regarding the risk factors in the business industry\, everyone will have the opportunity to ask questions at the end of this seminar\, and our experts will provide answers to address your concerns. \n\n🆓 座位有限，先到先得\n🆓 Limited seating available\, first come\, first served.\n\n🆓 Bring your laptop !! 💻 \n\n课程费用：→ 𝐅𝐑𝐄𝐄，由 Alpine Software SQL 赞助。欢迎其他软件用户参加。\n场地费：RM30（包括教室使用权、茶点和电子证书）\n仅限30个座位！\nCourse Fee :  → 𝐅𝐑𝐄𝐄\, sponsored by Alpine Software SQL. Users of other software are welcome to attend.\nVenue Fee: RM30 (includes classroom access\, light refreshments\, and e-certificate)\nLimited to 30 seats only!不要错过这个富有洞见的研讨会！获得强大的LHDN电子发票技巧和诀窍。开放给所有人！座位有限，请在名额填满之前快速注册。由 Alpine Software SQL 会计软件赞助。\n\n\nDon’t miss this insightful seminar! Gain powerful tips and tricks for LHDN e-invoicing. Open to everyone! Limited seating available\, so register quickly before spots fill up. Sponsored by Alpine Software SQL Accounting Software. \nIf Next Attendee same email\, can put “same@gmail.com”. \nEnd sale ticket: 29/01/2026\, 12pm\n*if after end sale need register this event\, please call 018-771 2219 (Fira)
URL:https://alpinesoftware.com.my/events/taman-molek-e-invoice-classroom-chinese-session-14/
LOCATION:Taman Molek Training Centre\, 72-02\, Jalan Molek 1/28\, Taman Molek\, Johor Bahru\, Johor\, 81100\, Malaysia
CATEGORIES:E-Invoice Classroom
END:VEVENT
BEGIN:VEVENT
DTSTART;TZID=Asia/Kuala_Lumpur:20260417T143000
DTEND;TZID=Asia/Kuala_Lumpur:20260417T170000
DTSTAMP:20260421T113836
CREATED:20260326T063005Z
LAST-MODIFIED:20260326T063005Z
UID:10000197-1776436200-1776445200@alpinesoftware.com.my
SUMMARY:Taman Molek | E- Invoice Classroom (English Session)
DESCRIPTION:【此线下课程教导 SQL 用户如何操作 “E-Invoice电子发票” 】\nThis Physical Classroom is designed to teach SQL users how to use the E-Invoice.电子发票培训内容\n\n\nE-invoice Training Content \n\nTIN search (over 1.3m TIN available)\nTIN 搜索（超过 130 万个 TIN 可用）\nE-Invoice\nConsolidated E-Invoice\nSelf-Billed E-Invoice\nBatch Submission E-Invoice\n批量提交 E-Invoice\nExpenses Self-Bill E-Invoice\nSelf-Bill E-Invoice费用\nDirectly Fetch & Post Supplier Validated Invoices via MyInvois\n通过 MyInvois 直接获取和发布供应商验证的发票\n\n如果您对业务行业的风险因素有任何疑问，在本次研讨会结束时，每个人都将有机会提出问题，我们的专家将提供答案来解决您的疑问。 \n\n\nIf you have any questions regarding the risk factors in the business industry\, everyone will have the opportunity to ask questions at the end of this seminar\, and our experts will provide answers to address your concerns. \n\n🆓 座位有限，先到先得\n🆓 Limited seating available\, first come\, first served.\n\n🆓 Bring your laptop !! 💻 \n\n课程费用：→ 𝐅𝐑𝐄𝐄，由 Alpine Software SQL 赞助。欢迎其他软件用户参加。\n场地费：RM30（包括教室使用权、茶点和电子证书）\n仅限30个座位！\nCourse Fee :  → 𝐅𝐑𝐄𝐄\, sponsored by Alpine Software SQL. Users of other software are welcome to attend.\nVenue Fee: RM30 (includes classroom access\, light refreshments\, and e-certificate)\nLimited to 30 seats only!不要错过这个富有洞见的研讨会！获得强大的LHDN电子发票技巧和诀窍。开放给所有人！座位有限，请在名额填满之前快速注册。由 Alpine Software SQL 会计软件赞助。\n\n\nDon’t miss this insightful seminar! Gain powerful tips and tricks for LHDN e-invoicing. Open to everyone! Limited seating available\, so register quickly before spots fill up. Sponsored by Alpine Software SQL Accounting Software. \nIf Next Attendee same email\, can put “same@gmail.com”. \nEnd sale ticket: 29/01/2026\, 12pm\n*if after end sale need register this event\, please call 018-771 2219 (Fira)
URL:https://alpinesoftware.com.my/events/taman-molek-e-invoice-classroom-english-session-13/
LOCATION:Taman Molek Training Centre\, 72-02\, Jalan Molek 1/28\, Taman Molek\, Johor Bahru\, Johor\, 81100\, Malaysia
CATEGORIES:E-Invoice Classroom
END:VEVENT
BEGIN:VEVENT
DTSTART;TZID=Asia/Kuala_Lumpur:20260515T100000
DTEND;TZID=Asia/Kuala_Lumpur:20260515T120000
DTSTAMP:20260421T113836
CREATED:20260416T085935Z
LAST-MODIFIED:20260416T085935Z
UID:10000201-1778839200-1778846400@alpinesoftware.com.my
SUMMARY:Taman Molek | E- Invoice Classroom (Chinese Session)
DESCRIPTION:【此线下课程教导 SQL 用户如何操作 “E-Invoice电子发票” 】\nThis Physical Classroom is designed to teach SQL users how to use the E-Invoice.电子发票培训内容\n\n\nE-invoice Training Content \n\nTIN search (over 1.3m TIN available)\nTIN 搜索（超过 130 万个 TIN 可用）\nE-Invoice\nConsolidated E-Invoice\nSelf-Billed E-Invoice\nBatch Submission E-Invoice\n批量提交 E-Invoice\nExpenses Self-Bill E-Invoice\nSelf-Bill E-Invoice费用\nDirectly Fetch & Post Supplier Validated Invoices via MyInvois\n通过 MyInvois 直接获取和发布供应商验证的发票\n\n如果您对业务行业的风险因素有任何疑问，在本次研讨会结束时，每个人都将有机会提出问题，我们的专家将提供答案来解决您的疑问。 \n\n\nIf you have any questions regarding the risk factors in the business industry\, everyone will have the opportunity to ask questions at the end of this seminar\, and our experts will provide answers to address your concerns. \n\n🆓 座位有限，先到先得\n🆓 Limited seating available\, first come\, first served.\n\n🆓 Bring your laptop !! 💻 \n\n课程费用：→ 𝐅𝐑𝐄𝐄，由 Alpine Software SQL 赞助。欢迎其他软件用户参加。\n场地费：RM30（包括教室使用权、茶点和电子证书）\n仅限30个座位！\nCourse Fee :  → 𝐅𝐑𝐄𝐄\, sponsored by Alpine Software SQL. Users of other software are welcome to attend.\nVenue Fee: RM30 (includes classroom access\, light refreshments\, and e-certificate)\nLimited to 30 seats only!不要错过这个富有洞见的研讨会！获得强大的LHDN电子发票技巧和诀窍。开放给所有人！座位有限，请在名额填满之前快速注册。由 Alpine Software SQL 会计软件赞助。\n\n\nDon’t miss this insightful seminar! Gain powerful tips and tricks for LHDN e-invoicing. Open to everyone! Limited seating available\, so register quickly before spots fill up. Sponsored by Alpine Software SQL Accounting Software. \nIf Next Attendee same email\, can put “same@gmail.com”. \nOpen Register until 14/05/2026\, 12pm\n*if after end sale need register this event\, please call 011-1098 2219 (Helen)
URL:https://alpinesoftware.com.my/events/taman-molek-e-invoice-classroom-chinese-session-15/
LOCATION:Taman Molek Training Centre\, 72-02\, Jalan Molek 1/28\, Taman Molek\, Johor Bahru\, Johor\, 81100\, Malaysia
CATEGORIES:E-Invoice Classroom
END:VEVENT
BEGIN:VEVENT
DTSTART;TZID=Asia/Kuala_Lumpur:20260515T143000
DTEND;TZID=Asia/Kuala_Lumpur:20260515T170000
DTSTAMP:20260421T113836
CREATED:20260416T090158Z
LAST-MODIFIED:20260416T090158Z
UID:10000202-1778855400-1778864400@alpinesoftware.com.my
SUMMARY:Taman Molek | E- Invoice Classroom (English Session)
DESCRIPTION:【此线下课程教导 SQL 用户如何操作 “E-Invoice电子发票” 】\nThis Physical Classroom is designed to teach SQL users how to use the E-Invoice.电子发票培训内容\n\n\nE-invoice Training Content \n\nTIN search (over 1.3m TIN available)\nTIN 搜索（超过 130 万个 TIN 可用）\nE-Invoice\nConsolidated E-Invoice\nSelf-Billed E-Invoice\nBatch Submission E-Invoice\n批量提交 E-Invoice\nExpenses Self-Bill E-Invoice\nSelf-Bill E-Invoice费用\nDirectly Fetch & Post Supplier Validated Invoices via MyInvois\n通过 MyInvois 直接获取和发布供应商验证的发票\n\n如果您对业务行业的风险因素有任何疑问，在本次研讨会结束时，每个人都将有机会提出问题，我们的专家将提供答案来解决您的疑问。 \n\n\nIf you have any questions regarding the risk factors in the business industry\, everyone will have the opportunity to ask questions at the end of this seminar\, and our experts will provide answers to address your concerns. \n\n🆓 座位有限，先到先得\n🆓 Limited seating available\, first come\, first served.\n\n🆓 Bring your laptop !! 💻 \n\n课程费用：→ 𝐅𝐑𝐄𝐄，由 Alpine Software SQL 赞助。欢迎其他软件用户参加。\n场地费：RM30（包括教室使用权、茶点和电子证书）\n仅限30个座位！\nCourse Fee :  → 𝐅𝐑𝐄𝐄\, sponsored by Alpine Software SQL. Users of other software are welcome to attend.\nVenue Fee: RM30 (includes classroom access\, light refreshments\, and e-certificate)\nLimited to 30 seats only!不要错过这个富有洞见的研讨会！获得强大的LHDN电子发票技巧和诀窍。开放给所有人！座位有限，请在名额填满之前快速注册。由 Alpine Software SQL 会计软件赞助。\n\n\nDon’t miss this insightful seminar! Gain powerful tips and tricks for LHDN e-invoicing. Open to everyone! Limited seating available\, so register quickly before spots fill up. Sponsored by Alpine Software SQL Accounting Software. \nIf Next Attendee same email\, can put “same@gmail.com”. \nOpen Register until 14/05/2026\, 12pm\n*if after end sale need register this event\, please call 011-1098 2219 (Helen)
URL:https://alpinesoftware.com.my/events/taman-molek-e-invoice-classroom-english-session-14/
LOCATION:Taman Molek Training Centre\, 72-02\, Jalan Molek 1/28\, Taman Molek\, Johor Bahru\, Johor\, 81100\, Malaysia
CATEGORIES:E-Invoice Classroom
END:VEVENT
END:VCALENDAR