BEGIN:VCALENDAR
VERSION:2.0
PRODID:-//Alpine Software Solutions - ECPv6.15.13//NONSGML v1.0//EN
CALSCALE:GREGORIAN
METHOD:PUBLISH
X-ORIGINAL-URL:https://alpinesoftware.com.my
X-WR-CALDESC:Events for Alpine Software Solutions
REFRESH-INTERVAL;VALUE=DURATION:PT1H
X-Robots-Tag:noindex
X-PUBLISHED-TTL:PT1H
BEGIN:VTIMEZONE
TZID:Asia/Kuala_Lumpur
BEGIN:STANDARD
TZOFFSETFROM:+0800
TZOFFSETTO:+0800
TZNAME:+08
DTSTART:20250101T000000
END:STANDARD
END:VTIMEZONE
BEGIN:VEVENT
DTSTART;TZID=Asia/Kuala_Lumpur:20260514T090000
DTEND;TZID=Asia/Kuala_Lumpur:20260514T130000
DTSTAMP:20260422T001909
CREATED:20260327T095706Z
LAST-MODIFIED:20260416T085231Z
UID:10000200-1778749200-1778763600@alpinesoftware.com.my
SUMMARY:Johor Bahru | Master Class HR Management Training Course (Chinese + English Session)
DESCRIPTION:📢 课程需达5人以上报名人数方可开班📢 Minimum 5 participants required\n.\n⛔ HR & Payroll 常出错？一不小心就罚款！⛔ Making mistakes in HR & Payroll? Risk of penalties! \n⚠️ 4小时带你掌握 Payroll + HR 核心重点⚠️ Master Payroll & HR essentials in just 4 hours\n. \n🔥 课程亮点 | Highlights\n🔥#课程亮点 | Course Highlights\n✨ 从Payroll基础到完整计算逻辑，掌握企业常见错误\n✨ From payroll basics to full calculation logic\, avoid common business mistakes \n✨ HR流程全覆盖：从入职到离职完整教学\n✨ Full HR workflow: from onboarding to resignation \n✨ 解析EPF / SOCSO / EIS / PCB，避免违规罚款\n✨ Understand EPF / SOCSO / EIS / PCB to avoid penalties \n✨ SQL Payroll系统实操，从0到熟练\n✨ SQL Payroll hands-on training from beginner to advanced\n.\n🎯 不只是学习，而是解决你实际工作问题！\n🎯 Not just learning — solving your real work problems!\n————————————\n🔥【课程内容大纲 | Course Outline】\n.\n📌 模块一：Payroll基础 & 法规解析\n📌 Module 1: Payroll Basics & Regulations \n✅ 什么是Payroll？完整流程\n✅ What is payroll? Full process overview \n✅ 法定扣款：EPF / SOCSO / EIS / PCB\n✅ Statutory contributions explained \n✅ 常见错误与风险\n✅ Common mistakes & risks\n————————————\n📌 模块二：员工资料与HR流程\n📌 Module 2: Employee Data & HR Process \n✅ 员工资料建立\n✅ Employee profile setup \n✅ 入职 & 离职流程\n✅ Onboarding & resignation process \n✅ HR文件管理\n✅ HR documentation management\n————————————\n📌 模块三：薪资计算实战\n📌 Module 3: Payroll Calculation \n✅ 薪资、Allowance、Deduction\n✅ Salary\, allowance & deduction \n✅ OT、Leave、Unpaid Leave\n✅ OT\, leave & unpaid leave calculation\n————————————\n📌 模块四：法定贡献详解\n📌 Module 4: Statutory Contributions \n✅ EPF / SOCSO / EIS / PCB计算\n✅ Calculation & submission\n————————————\n📌 模块五：SQL Payroll 实操\n📌 Module 5: SQL Payroll System \n✅ 员工设定\n✅ Employee setup\n.\n✅ 薪资计算 & Payslip\n✅ Payroll processing & payslip\n.\n✅ 报表生成\n✅ Report generation\n————————————\n🎁【课程加值 | Bonus Value】\n✨ 专家Q&A现场解答\n✨ Expert Q&A session \n✨ 实操练习\n✨ Hands-on practice \n✨ 真实案例分析\n✨ Real case studies \n✨全中英文讲解\n✨Conducted in both Chinese & English \n📌不是Preview Class，而是实战课程！\n📌This is NOT a preview — it’s a practical training course!\n.\n————————————–\n【#新山专场 Johor Bahru】\n🎫 日期 Date：14/05/2026（星期四 Thursday）\n🕙 时间 Time：9:00am – 1:00pm \n📍 地点 Venue：Taman Molek Training Centre \n💰 费用 Fee：RM298\nOpen Register until 10/05/2026\n（含午茶点、培训笔记、电子证书） (Includes refreshments\, notes & e-certificate)\n.\n📢 HRDF Claim：RM398\nOpen Register until 07/05/2026\n（含午茶点、培训笔记、电子证书） (Includes refreshments\, notes & e-certificate)\n.\n课程需达5人以上报名人数方可开班。\nA minimum of 5 participants is required for the course to proceed.\n————————————–\n. \n🎯 5大报名理由 | 5 Reasons to Join\n✅ 4小时快速掌握重点✅ Learn fast in 4 hours \n✅ 实战导向，不只是理论✅ Practical\, not theory \n✅ 适合所有行业✅ Suitable for all industries \n✅ 一次掌握Payroll + HR✅ Learn Payroll + HR together \n✅ 不限是否使用SQL系统✅ Open to all (no system requirement)
URL:https://alpinesoftware.com.my/events/johor-bahru-master-class-hr-management-training-course-chinese-english-session/
LOCATION:Taman Molek Training Centre\, 72-02\, Jalan Molek 1/28\, Taman Molek\, Johor Bahru\, Johor\, 81100\, Malaysia
CATEGORIES:E-Invoice Course
END:VEVENT
BEGIN:VEVENT
DTSTART;TZID=Asia/Kuala_Lumpur:20260515T100000
DTEND;TZID=Asia/Kuala_Lumpur:20260515T120000
DTSTAMP:20260422T001909
CREATED:20260416T085935Z
LAST-MODIFIED:20260416T085935Z
UID:10000201-1778839200-1778846400@alpinesoftware.com.my
SUMMARY:Taman Molek | E- Invoice Classroom (Chinese Session)
DESCRIPTION:【此线下课程教导 SQL 用户如何操作 “E-Invoice电子发票” 】\nThis Physical Classroom is designed to teach SQL users how to use the E-Invoice.电子发票培训内容\n\n\nE-invoice Training Content \n\nTIN search (over 1.3m TIN available)\nTIN 搜索（超过 130 万个 TIN 可用）\nE-Invoice\nConsolidated E-Invoice\nSelf-Billed E-Invoice\nBatch Submission E-Invoice\n批量提交 E-Invoice\nExpenses Self-Bill E-Invoice\nSelf-Bill E-Invoice费用\nDirectly Fetch & Post Supplier Validated Invoices via MyInvois\n通过 MyInvois 直接获取和发布供应商验证的发票\n\n如果您对业务行业的风险因素有任何疑问，在本次研讨会结束时，每个人都将有机会提出问题，我们的专家将提供答案来解决您的疑问。 \n\n\nIf you have any questions regarding the risk factors in the business industry\, everyone will have the opportunity to ask questions at the end of this seminar\, and our experts will provide answers to address your concerns. \n\n🆓 座位有限，先到先得\n🆓 Limited seating available\, first come\, first served.\n\n🆓 Bring your laptop !! 💻 \n\n课程费用：→ 𝐅𝐑𝐄𝐄，由 Alpine Software SQL 赞助。欢迎其他软件用户参加。\n场地费：RM30（包括教室使用权、茶点和电子证书）\n仅限30个座位！\nCourse Fee :  → 𝐅𝐑𝐄𝐄\, sponsored by Alpine Software SQL. Users of other software are welcome to attend.\nVenue Fee: RM30 (includes classroom access\, light refreshments\, and e-certificate)\nLimited to 30 seats only!不要错过这个富有洞见的研讨会！获得强大的LHDN电子发票技巧和诀窍。开放给所有人！座位有限，请在名额填满之前快速注册。由 Alpine Software SQL 会计软件赞助。\n\n\nDon’t miss this insightful seminar! Gain powerful tips and tricks for LHDN e-invoicing. Open to everyone! Limited seating available\, so register quickly before spots fill up. Sponsored by Alpine Software SQL Accounting Software. \nIf Next Attendee same email\, can put “same@gmail.com”. \nOpen Register until 14/05/2026\, 12pm\n*if after end sale need register this event\, please call 011-1098 2219 (Helen)
URL:https://alpinesoftware.com.my/events/taman-molek-e-invoice-classroom-chinese-session-15/
LOCATION:Taman Molek Training Centre\, 72-02\, Jalan Molek 1/28\, Taman Molek\, Johor Bahru\, Johor\, 81100\, Malaysia
CATEGORIES:E-Invoice Classroom
END:VEVENT
BEGIN:VEVENT
DTSTART;TZID=Asia/Kuala_Lumpur:20260515T143000
DTEND;TZID=Asia/Kuala_Lumpur:20260515T170000
DTSTAMP:20260422T001909
CREATED:20260416T090158Z
LAST-MODIFIED:20260416T090158Z
UID:10000202-1778855400-1778864400@alpinesoftware.com.my
SUMMARY:Taman Molek | E- Invoice Classroom (English Session)
DESCRIPTION:【此线下课程教导 SQL 用户如何操作 “E-Invoice电子发票” 】\nThis Physical Classroom is designed to teach SQL users how to use the E-Invoice.电子发票培训内容\n\n\nE-invoice Training Content \n\nTIN search (over 1.3m TIN available)\nTIN 搜索（超过 130 万个 TIN 可用）\nE-Invoice\nConsolidated E-Invoice\nSelf-Billed E-Invoice\nBatch Submission E-Invoice\n批量提交 E-Invoice\nExpenses Self-Bill E-Invoice\nSelf-Bill E-Invoice费用\nDirectly Fetch & Post Supplier Validated Invoices via MyInvois\n通过 MyInvois 直接获取和发布供应商验证的发票\n\n如果您对业务行业的风险因素有任何疑问，在本次研讨会结束时，每个人都将有机会提出问题，我们的专家将提供答案来解决您的疑问。 \n\n\nIf you have any questions regarding the risk factors in the business industry\, everyone will have the opportunity to ask questions at the end of this seminar\, and our experts will provide answers to address your concerns. \n\n🆓 座位有限，先到先得\n🆓 Limited seating available\, first come\, first served.\n\n🆓 Bring your laptop !! 💻 \n\n课程费用：→ 𝐅𝐑𝐄𝐄，由 Alpine Software SQL 赞助。欢迎其他软件用户参加。\n场地费：RM30（包括教室使用权、茶点和电子证书）\n仅限30个座位！\nCourse Fee :  → 𝐅𝐑𝐄𝐄\, sponsored by Alpine Software SQL. Users of other software are welcome to attend.\nVenue Fee: RM30 (includes classroom access\, light refreshments\, and e-certificate)\nLimited to 30 seats only!不要错过这个富有洞见的研讨会！获得强大的LHDN电子发票技巧和诀窍。开放给所有人！座位有限，请在名额填满之前快速注册。由 Alpine Software SQL 会计软件赞助。\n\n\nDon’t miss this insightful seminar! Gain powerful tips and tricks for LHDN e-invoicing. Open to everyone! Limited seating available\, so register quickly before spots fill up. Sponsored by Alpine Software SQL Accounting Software. \nIf Next Attendee same email\, can put “same@gmail.com”. \nOpen Register until 14/05/2026\, 12pm\n*if after end sale need register this event\, please call 011-1098 2219 (Helen)
URL:https://alpinesoftware.com.my/events/taman-molek-e-invoice-classroom-english-session-14/
LOCATION:Taman Molek Training Centre\, 72-02\, Jalan Molek 1/28\, Taman Molek\, Johor Bahru\, Johor\, 81100\, Malaysia
CATEGORIES:E-Invoice Classroom
END:VEVENT
BEGIN:VEVENT
DTSTART;TZID=Asia/Kuala_Lumpur:20260521T100000
DTEND;TZID=Asia/Kuala_Lumpur:20260521T120000
DTSTAMP:20260422T001909
CREATED:20260416T091443Z
LAST-MODIFIED:20260416T091443Z
UID:10000205-1779357600-1779364800@alpinesoftware.com.my
SUMMARY:Online | E- Invoice (Chinese Session)
DESCRIPTION:【此线上课程教导 SQL 用户如何操作 “E-Invoice电子发票” 】\nThis Online Event is designed to teach SQL users how to use the E-Invoice.\n \n电子发票培训内容 \n\n\n\nE-invoice Training Content \n\nTIN search (over 1.3m TIN available)\nTIN 搜索（超过 130 万个 TIN 可用）\nE-Invoice\nConsolidated E-Invoice\nSelf-Billed E-Invoice\nBatch Submission E-Invoice\n批量提交 E-Invoice\nExpenses Self-Bill E-Invoice\nSelf-Bill E-Invoice费用\nDirectly Fetch & Post Supplier Validated Invoices via MyInvois\n通过 MyInvois 直接获取和发布供应商验证的发票\n\n如果您对业务行业的风险因素有任何疑问，在本次研讨会结束时，每个人都将有机会提出问题，我们的专家将提供答案来解决您的疑问。 \n\n\nIf you have any questions regarding the risk factors in the business industry\, everyone will have the opportunity to ask questions at the end of this seminar\, and our experts will provide answers to address your concerns. \n🆓 座位有限，先到先得 \n\n🆓 Limited seating available\, first come\, first served.\n费用：→ 𝐅𝐑𝐄𝐄，由 Alpine Software SQL 赞助。欢迎其他软件用户参加。\n\nCost:  → Free\, sponsored by Alpine Software SQL. Users of other software are welcome to attend. \n不要错过这个富有洞见的研讨会！获得强大的LHDN电子发票技巧和诀窍。开放给所有人！座位有限，请在名额填满之前快速注册。由 Alpine Software SQL 会计软件赞助。 \n\n\nDon’t miss this insightful seminar! Gain powerful tips and tricks for LHDN e-invoicing. Open to everyone! Limited seating available\, so register quickly before spots fill up. Sponsored by Alpine Software SQL Accounting Software.
URL:https://alpinesoftware.com.my/events/online-e-invoice-chinese-session-38/
CATEGORIES:Zoom Webinar
LOCATION:https://alpinesoftware.com.my/events/online-e-invoice-chinese-session-38/
END:VEVENT
BEGIN:VEVENT
DTSTART;TZID=Asia/Kuala_Lumpur:20260521T143000
DTEND;TZID=Asia/Kuala_Lumpur:20260521T170000
DTSTAMP:20260422T001909
CREATED:20260416T091637Z
LAST-MODIFIED:20260416T091637Z
UID:10000206-1779373800-1779382800@alpinesoftware.com.my
SUMMARY:Online | E- Invoice (English Session)
DESCRIPTION:【此线上课程教导 SQL 用户如何操作 “E-Invoice电子发票” 】\nThis Online Event is designed to teach SQL users how to use the E-Invoice.电子发票培训内容\n\n\nE-invoice Training Content \n\nTIN search (over 1.3m TIN available)\nTIN 搜索（超过 130 万个 TIN 可用）\nE-Invoice\nConsolidated E-Invoice\nSelf-Billed E-Invoice\nBatch Submission E-Invoice\n批量提交 E-Invoice\nExpenses Self-Bill E-Invoice\nSelf-Bill E-Invoice费用\nDirectly Fetch & Post Supplier Validated Invoices via MyInvois\n通过 MyInvois 直接获取和发布供应商验证的发票\n\n如果您对业务行业的风险因素有任何疑问，在本次研讨会结束时，每个人都将有机会提出问题，我们的专家将提供答案来解决您的疑问。 \n\n\nIf you have any questions regarding the risk factors in the business industry\, everyone will have the opportunity to ask questions at the end of this seminar\, and our experts will provide answers to address your concerns. \n🆓 座位有限，先到先得 \n\n🆓 Limited seating available\, first come\, first served.\n费用：→ 𝐅𝐑𝐄𝐄，由 Alpine Software SQL 赞助。欢迎其他软件用户参加。\n\nCost:  → Free\, sponsored by Alpine Software SQL. Users of other software are welcome to attend. \n不要错过这个富有洞见的研讨会！获得强大的LHDN电子发票技巧和诀窍。开放给所有人！座位有限，请在名额填满之前快速注册。由 Alpine Software SQL 会计软件赞助。 \n\n\nDon’t miss this insightful seminar! Gain powerful tips and tricks for LHDN e-invoicing. Open to everyone! Limited seating available\, so register quickly before spots fill up. Sponsored by Alpine Software SQL Accounting Software.
URL:https://alpinesoftware.com.my/events/online-e-invoice-english-session-38/
CATEGORIES:Zoom Webinar
LOCATION:https://alpinesoftware.com.my/events/online-e-invoice-english-session-38/
END:VEVENT
END:VCALENDAR